BEGIN:VCALENDAR
VERSION:2.0
PRODID:Imitheme.com 
BEGIN:VEVENT
UID:20260420T0459561549448958
DTSTAMP;TZID=UTC:2026-04-20 04:59:56
DTSTART;TZID=America/Los_Angeles:20260508T000000
DTEND;TZID=America/Los_Angeles:20260508T000000
SUMMARY:Good Mood - Chor
LOCATION:
DESCRIPTION:
URL:https://www.schutzhaus-zukunft.at/eventer/good-moon-chor/
END:VEVENT
END:VCALENDAR
