BEGIN:VCALENDAR
VERSION:2.0
PRODID:Imitheme.com 
BEGIN:VEVENT
UID:20260423T1655051506812540
DTSTAMP;TZID=UTC:2026-04-23 16:55:05
DTSTART;TZID=America/Los_Angeles:20260522T000000
DTEND;TZID=America/Los_Angeles:20260522T000000
SUMMARY:TOUGH ENOUGH
LOCATION:
DESCRIPTION:TOUGH ENOUGH wurde 1990 gegründet und ging aus der Formation Muddy Rose rund um den österreichischen Ur-Rock’n’Roller Erich Dastl hervor. Gemeinsam mit Conny Schlegl, Peter Kern und Kurt van Taff formierte sich die Band, die 1992 durch den Blues-Man Hannes Kasehs erweitert wurde. In kürzester Zeit hatten sie sich in der Wiener Blues- und Biker-Szene fest verankert.    Musikalisch ist TOUGH ENOUGH am Chicago Blues der 1970er-Jahre orientiert, dynamisch und rockig interpretiert und mit einem kräftigen Schuss Rock’n’Roll versehen. Ihr Sound ist energiegeladen und kompromisslos.   1996 gingen die Musiker zunächst getrennte Wege. 30 Jahre später ist es nun wieder Zeit für ein Revival. TOUGH ENOUGH steht für einen Abend gemeinsam auf der Bühne – rockiger Blues, treibende Rhythmen und ein Groove, der sofort packt!
URL:https://www.schutzhaus-zukunft.at/eventer/tough-enough/
END:VEVENT
END:VCALENDAR
