BEGIN:VCALENDAR
VERSION:2.0
PRODID:Imitheme.com 
BEGIN:VEVENT
UID:20260421T13032945763963
DTSTAMP;TZID=UTC:2026-04-21 13:03:29
DTSTART;TZID=America/Los_Angeles:20260328T000000
DTEND;TZID=America/Los_Angeles:20260328T000000
SUMMARY:Boris Bukowski
LOCATION:
DESCRIPTION:Boris Bukowski “privat Teil 3“ –       Jetzt kommt der neue Teil 3 des Duo-Programms „BB privat Teil 3“!!! mit den neuesten Brüllern!   KONZERT & KABARETT !   BB zündet ein Feuerwerk der lustigsten Anekdoten aus einem prallen Musikerleben, vom Filmdreh mit Franco Nero, vom Dinner mit dem Oligarchen, „ist Arschauswischen mit Klopapier pfui?“, von privaten Seifen-Opern und Sitcom beim Arzt; und die Hoppalas und Gags lassen jeden mit einem Lächeln heimgehen.   Dazwischen spielt er mit seinem virtuosen Gitarristen Jaxx Bahaudeen eine Set List mit musikalischen Meilensteinen wie „euer Fritze mit der Spritze“, „Trag meine Liebe wie einen Mantel“, „Fandango“, „mitten ins Herz“ (einer der Soundtracks der Netflix-Serie „Der Pass“ mit Nicholas Ofczarek), „Kokain“ und den Highlights aus dem vielgepriesenen letzten Album; Songs, für die er den Amadeus Award für sein Lebenswerk bekommen hat, Lieder ohne Ablaufdatum, Worte, die bleiben, wenn die Musik aufhört zu spielen.    Wien-Premiere am Samstag, 21. November im Orpheum!   Info zum Kartenverkauf in Kürze
URL:https://www.schutzhaus-zukunft.at/eventer/boris-bukowski/
END:VEVENT
END:VCALENDAR
