BEGIN:VCALENDAR
VERSION:2.0
PRODID:Imitheme.com 
BEGIN:VEVENT
UID:20260424T163032527069822
DTSTAMP;TZID=UTC:2026-04-24 16:30:32
DTSTART;TZID=America/Los_Angeles:20261010T000000
DTEND;TZID=America/Los_Angeles:20261010T000000
SUMMARY:Die Hinichen Lebend Zusatzkonzert
LOCATION:
DESCRIPTION:Corona haben wir unter den Tisch gesoffen und die Klimakleber werden auf die verlängerte Gunterstrasse geklebt ..... Oktoberfest ist wo die HINICHEN spielen, Oktoberfest ist im SCHUTZHAUS ZUR ZUKUNFT, und nicht auf irgendeiner sumpfigen Wies’n mit volksdümmlicher Musik, es gibt Schnitzel statt Weisswürscht, Faschierte Laberl statt Pouletten, Stelzen statt Eisbein. Das Bier gibt’s in Krügerln, net in Mass. Und schmecken tuat’s a. Die Hinichen in Höchstform singen ihre besten Lieder, die beste Band Wien’s verkürzt damit die Zeit bis Weihnachten.  
URL:https://www.schutzhaus-zukunft.at/eventer/die-hinichen-lebend-zusatzkonzert/
END:VEVENT
END:VCALENDAR
